BEGIN:VCALENDAR
VERSION:2.0
PRODID:-//jEvents 2.0 for Joomla//EN
CALSCALE:GREGORIAN
METHOD:PUBLISH
BEGIN:VTIMEZONE
TZID:America/Lima
BEGIN:STANDARD
DTSTART:20220313T110000
RDATE:20380118T221407
TZOFFSETFROM:-0500
TZOFFSETTO:-0500
TZNAME:America/Lima -05
END:STANDARD
END:VTIMEZONE
BEGIN:VEVENT
UID:0a119c2ad9da9f1e5ff9ea209bc7d1b2
CATEGORIES:Eventos
CREATED:20250829T093417
SUMMARY:Grabación: Alumnos participan en el curso "Petrología y Alteraciones hidrotermales aplicada a la exploración de yacimientos minerales tipo epitermales, pórfidos y skarn"
LOCATION:EP de Ingeniería Geológica de la FIGMMG
DESCRIPTION:<p><span id="docs-internal-guid-3f17bf9c-7fff-31d7-7715-01224553cb58"><span
 >Responsables: <span style="color: #ff0000;">Fernando, Yorman</span></span>
 </span></p>
DTSTAMP:20260422T134311
DTSTART;TZID=America/Lima:20230314T110000
DTEND;TZID=America/Lima:20230314T120000
SEQUENCE:0
TRANSP:OPAQUE
END:VEVENT
END:VCALENDAR