BEGIN:VCALENDAR
VERSION:2.0
PRODID:-//jEvents 2.0 for Joomla//EN
CALSCALE:GREGORIAN
METHOD:PUBLISH
BEGIN:VTIMEZONE
TZID:America/Lima
BEGIN:STANDARD
DTSTART:20230918T160000
RDATE:20380118T221407
TZOFFSETFROM:-0500
TZOFFSETTO:-0500
TZNAME:America/Lima -05
END:STANDARD
END:VTIMEZONE
BEGIN:VEVENT
UID:147380fd0da274ebf1e711deddb0234c
CATEGORIES:Eventos
CREATED:20250829T093418
SUMMARY:Grabación: Mesa redonda "Situación de la democracia y el fantasma del autoritarismo en América Latina"
LOCATION:Facultad de Derecho y Ciencia Política - Auditorio Jorge Eugenio Castañeda
DESCRIPTION:<p>Responsables: Carlos, Manuel</p>
DTSTAMP:20260422T134348
DTSTART;TZID=America/Lima:20240918T160000
DTEND;TZID=America/Lima:20240918T180000
SEQUENCE:0
TRANSP:OPAQUE
END:VEVENT
END:VCALENDAR