BEGIN:VCALENDAR
VERSION:2.0
PRODID:-//jEvents 2.0 for Joomla//EN
CALSCALE:GREGORIAN
METHOD:PUBLISH
BEGIN:VTIMEZONE
TZID:America/Lima
BEGIN:STANDARD
DTSTART:20220703T143000
RDATE:20380118T221407
TZOFFSETFROM:-0500
TZOFFSETTO:-0500
TZNAME:America/Lima -05
END:STANDARD
END:VTIMEZONE
BEGIN:VEVENT
UID:1f402ddc3a66c1d2bc3cc654bf7c6b23
CATEGORIES:Eventos
CREATED:20250829T093418
SUMMARY:Grabación: Visita de cortesía a la Sra. Rectora de la UNMSM, por Embajadora de Turquia
LOCATION:Rectorado
DESCRIPTION:Responsables: Franco, Manuel\n
X-ALT-DESC;FMTTYPE=text/html:<p><span id="docs-internal-guid-c8636541-7fff-af13-7430-b9969e008a72"><span
 >Responsables: <span style="color: #ff0000;">Franco, Manuel</span></span></
 span></p>
DTSTAMP:20260422T134014
DTSTART;TZID=America/Lima:20230704T143000
DTEND;TZID=America/Lima:20230704T153000
SEQUENCE:0
TRANSP:OPAQUE
END:VEVENT
END:VCALENDAR