BEGIN:VCALENDAR
VERSION:2.0
PRODID:-//jEvents 2.0 for Joomla//EN
CALSCALE:GREGORIAN
METHOD:PUBLISH
BEGIN:VTIMEZONE
TZID:America/Lima
BEGIN:STANDARD
DTSTART:20220702T110000
RDATE:20380118T221407
TZOFFSETFROM:-0500
TZOFFSETTO:-0500
TZNAME:America/Lima -05
END:STANDARD
END:VTIMEZONE
BEGIN:VEVENT
UID:2dd5e11b391d6a0f515f45c009b61e4b
CATEGORIES:Eventos
CREATED:20250829T093419
SUMMARY:Conferencia: Proceso Constituyente Perspectiva Comparada
LOCATION:Auditorio 01 Jose María Arguedas - Facultad de Ciencias Sociales
DESCRIPTION:<p>Responsables: <span style="color: #ff0000;">Ponce, Manuel</span></p>
DTSTAMP:20260422T132257
DTSTART;TZID=America/Lima:20230703T110000
DTEND;TZID=America/Lima:20230703T120000
SEQUENCE:0
TRANSP:OPAQUE
END:VEVENT
END:VCALENDAR