BEGIN:VCALENDAR
VERSION:2.0
PRODID:-//jEvents 2.0 for Joomla//EN
CALSCALE:GREGORIAN
METHOD:PUBLISH
BEGIN:VTIMEZONE
TZID:America/Lima
BEGIN:STANDARD
DTSTART:20230916T100000
RDATE:20380118T221407
TZOFFSETFROM:-0500
TZOFFSETTO:-0500
TZNAME:America/Lima -05
END:STANDARD
END:VTIMEZONE
BEGIN:VEVENT
UID:3ae944a7751fe93be20041c8060c8884
CATEGORIES:Eventos
CREATED:20250829T093420
SUMMARY:Grabacion: Taller de cocina de turismo funcionando con gas cálida, culminando con las instalaciones
LOCATION:Facultad de Ciencias Administrativas
DESCRIPTION:<p>Responsables: Fernando, Edgar</p>
DTSTAMP:20260422T134423
DTSTART;TZID=America/Lima:20240916T100000
DTEND;TZID=America/Lima:20240916T110000
SEQUENCE:0
TRANSP:OPAQUE
END:VEVENT
END:VCALENDAR