BEGIN:VCALENDAR
VERSION:2.0
PRODID:-//jEvents 2.0 for Joomla//EN
CALSCALE:GREGORIAN
METHOD:PUBLISH
BEGIN:VTIMEZONE
TZID:America/Lima
BEGIN:STANDARD
DTSTART:20220816T100000
RDATE:20380118T221407
TZOFFSETFROM:-0500
TZOFFSETTO:-0500
TZNAME:America/Lima -05
END:STANDARD
END:VTIMEZONE
BEGIN:VEVENT
UID:6000404364de68d26fc1f60b5d03c300
CATEGORIES:Eventos
CREATED:20250829T093421
SUMMARY:Transmisión: Clausura de la Intervención realizada por la UNMSM en Lima metropolitana a 163 jóvenes capacitados en el curso operario de productos lácteos en Lima organizado por el  Centro de Captación de Recursos
LOCATION:Auditorio Rosa Alarco - Biblioteca Central
DESCRIPTION:Responsables: Danielle, Edgar, Fernando\n
X-ALT-DESC;FMTTYPE=text/html:<p>Responsables: <span style="color: #ff0000;">Danielle, Edgar, Fernando</s
 pan></p>
DTSTAMP:20260422T134015
DTSTART;TZID=America/Lima:20230817T100000
DTEND;TZID=America/Lima:20230817T110000
SEQUENCE:0
TRANSP:OPAQUE
END:VEVENT
END:VCALENDAR