BEGIN:VCALENDAR
VERSION:2.0
PRODID:-//jEvents 2.0 for Joomla//EN
CALSCALE:GREGORIAN
METHOD:PUBLISH
BEGIN:VTIMEZONE
TZID:America/Lima
BEGIN:STANDARD
DTSTART:20230816T105000
RDATE:20380118T221407
TZOFFSETFROM:-0500
TZOFFSETTO:-0500
TZNAME:America/Lima -05
END:STANDARD
END:VTIMEZONE
BEGIN:VEVENT
UID:6209f20cc53b18828d9405d4eb192a0a
CATEGORIES:Eventos
CREATED:20250829T093421
SUMMARY:Grabación: 20° aniversario de la OCCAA.
LOCATION:Biblioteca Central - Auditorio Rosa Alarco
DESCRIPTION:<p>Responsables: Fernando, Franco</p><p><span><span style="color: #ff0000;"
 >Ver enlace:</span><span style="color: #0000ff;"><a href="https://www.youtu
 be.com/watch?v=PTBtdvIyT8k</span></span></p>">https://www.youtube.com/watch
 ?v=PTBtdvIyT8k</span></span></p></a>
DTSTAMP:20260422T122128
DTSTART;TZID=America/Lima:20240816T105000
DTEND;TZID=America/Lima:20240816T115000
SEQUENCE:0
TRANSP:OPAQUE
END:VEVENT
END:VCALENDAR