BEGIN:VCALENDAR
VERSION:2.0
PRODID:-//jEvents 2.0 for Joomla//EN
CALSCALE:GREGORIAN
METHOD:PUBLISH
BEGIN:VTIMEZONE
TZID:America/Lima
BEGIN:STANDARD
DTSTART:20230828T150000
RDATE:20380118T221407
TZOFFSETFROM:-0500
TZOFFSETTO:-0500
TZNAME:America/Lima -05
END:STANDARD
END:VTIMEZONE
BEGIN:VEVENT
UID:730b69aee2fb6ae091a5e27c90cecac9
CATEGORIES:Eventos
CREATED:20250829T093422
SUMMARY:Grabación: Firma de Convenio Marco de Colaboración Interinstitucional entre el Centro de Estudios Históricos Militares del Perú y la UNMSM
LOCATION:Sala de Sesiones del Rectorado
DESCRIPTION:<p>Responsables: Danielle, Fernando</p>
DTSTAMP:20260422T134424
DTSTART;TZID=America/Lima:20240828T150000
DTEND;TZID=America/Lima:20240828T160000
SEQUENCE:0
TRANSP:OPAQUE
END:VEVENT
END:VCALENDAR