BEGIN:VCALENDAR
VERSION:2.0
PRODID:-//jEvents 2.0 for Joomla//EN
CALSCALE:GREGORIAN
METHOD:PUBLISH
BEGIN:VTIMEZONE
TZID:America/Lima
BEGIN:STANDARD
DTSTART:20230930T170000
RDATE:20380118T221407
TZOFFSETFROM:-0500
TZOFFSETTO:-0500
TZNAME:America/Lima -05
END:STANDARD
END:VTIMEZONE
BEGIN:VEVENT
UID:7a62b029260afad5e1f536db991a914f
CATEGORIES:Eventos
CREATED:20250829T093423
SUMMARY:Grabación: Distinción
LOCATION:UNMSM
DESCRIPTION:<p>Responsables: Ponce, Danielle, Fernando</p>
DTSTAMP:20260422T132257
DTSTART;TZID=America/Lima:20240930T170000
DTEND;TZID=America/Lima:20240930T180000
SEQUENCE:0
TRANSP:OPAQUE
END:VEVENT
END:VCALENDAR