BEGIN:VCALENDAR
VERSION:2.0
PRODID:-//jEvents 2.0 for Joomla//EN
CALSCALE:GREGORIAN
METHOD:PUBLISH
BEGIN:VTIMEZONE
TZID:America/Lima
BEGIN:STANDARD
DTSTART:20220208T090000
RDATE:20380118T221407
TZOFFSETFROM:-0500
TZOFFSETTO:-0500
TZNAME:America/Lima -05
END:STANDARD
END:VTIMEZONE
BEGIN:VEVENT
UID:7d5bf9f9118d93cb15b1b22b4f836e1d
CATEGORIES:Eventos
CREATED:20250829T093423
SUMMARY:Dia Internacional de la Mujer y la Niña
LOCATION:Zoom - FCF
DESCRIPTION:<p>Modalidad: Virtual - Zoom<br /> <br /> Responsables: <span style="color:
  #ff0000;">Nestor, Carlos</span></p>
DTSTAMP:20260422T133146
DTSTART;TZID=America/Lima:20230209T090000
DTEND;TZID=America/Lima:20230209T100000
SEQUENCE:0
TRANSP:OPAQUE
END:VEVENT
END:VCALENDAR