BEGIN:VCALENDAR
VERSION:2.0
PRODID:-//jEvents 2.0 for Joomla//EN
CALSCALE:GREGORIAN
METHOD:PUBLISH
BEGIN:VTIMEZONE
TZID:America/Lima
BEGIN:STANDARD
DTSTART:20230312T123000
RDATE:20380118T221407
TZOFFSETFROM:-0500
TZOFFSETTO:-0500
TZNAME:America/Lima -05
END:STANDARD
END:VTIMEZONE
BEGIN:VEVENT
UID:8c0a46a4a8e7349337d5635b4d1d9df6
CATEGORIES:Eventos
CREATED:20250829T093424
SUMMARY:Grabación: Colocación de primera piedra del nuevo edificio de la Facultad de Letras y Ciencias Humanas
LOCATION:Facultad de Letras y Ciencias Humanas
DESCRIPTION:<p><span id="docs-internal-guid-12b0cf11-7fff-0b54-ead5-841897dd16db"><span
 >Responsables: Fernando, Manuel</span></span></p><p><span><span><span style
 ="color: #ff0000;">Ver enlace:</span><a href="https://www.youtube.com/watch
 ?v=pEywU_HqHEU" target="_blank"><span style="color: #0000ff;">https://www.y
 outube.com/watch?v=pEywU_HqHEU</span></a></span></span></p>
DTSTAMP:20260422T022151
DTSTART;TZID=America/Lima:20240312T123000
DTEND;TZID=America/Lima:20240312T133000
SEQUENCE:0
TRANSP:OPAQUE
END:VEVENT
END:VCALENDAR