BEGIN:VCALENDAR
VERSION:2.0
PRODID:-//jEvents 2.0 for Joomla//EN
CALSCALE:GREGORIAN
METHOD:PUBLISH
BEGIN:VTIMEZONE
TZID:America/Lima
BEGIN:STANDARD
DTSTART:20220824T190000
RDATE:20380118T221407
TZOFFSETFROM:-0500
TZOFFSETTO:-0500
TZNAME:America/Lima -05
END:STANDARD
END:VTIMEZONE
BEGIN:VEVENT
UID:d1407df20b4dd5463fbf266000ed0e0b
CATEGORIES:Eventos
CREATED:20250829T093427
SUMMARY:Grabación: Jóvenes ganadores de diversas categorías lucha olímpica UNMSM
LOCATION:Gimnasio de la UNMSM
DESCRIPTION:Responsable: Pamela, Ponce\n
X-ALT-DESC;FMTTYPE=text/html:<p>Responsable: <span style="color: #ff0000;">Pamela, Ponce</span></p>
DTSTAMP:20260422T132924
DTSTART;TZID=America/Lima:20230825T190000
DTEND;TZID=America/Lima:20230825T200000
SEQUENCE:0
TRANSP:OPAQUE
END:VEVENT
END:VCALENDAR