BEGIN:VCALENDAR
VERSION:2.0
PRODID:-//jEvents 2.0 for Joomla//EN
CALSCALE:GREGORIAN
METHOD:PUBLISH
BEGIN:VTIMEZONE
TZID:America/Lima
BEGIN:STANDARD
DTSTART:20230306T140000
RDATE:20380118T221407
TZOFFSETFROM:-0500
TZOFFSETTO:-0500
TZNAME:America/Lima -05
END:STANDARD
END:VTIMEZONE
BEGIN:VEVENT
UID:d3349b4d669454f2368c49500b9589c7
CATEGORIES:Eventos
CREATED:20250829T093427
SUMMARY:Transmisión: Charla virtual "Sistema de SST basado en la Ley 29783, Ley de Seguridad y Salud en el Trabajo"
LOCATION:OGRRHH - MEET
DESCRIPTION:<p>Responsable: Cordova</p><p><span style="color: #ff0000;">Ver enlace:</sp
 an><a href="https://www.youtube.com/watch?v=LGVoTS7FqEg" target="_blank"><s
 pan style="color: #0000ff;">https://www.youtube.com/watch?v=LGVoTS7FqEg</sp
 an></a></p>
DTSTAMP:20260422T022153
DTSTART;TZID=America/Lima:20240306T140000
DTEND;TZID=America/Lima:20240306T150000
SEQUENCE:0
TRANSP:OPAQUE
END:VEVENT
END:VCALENDAR