BEGIN:VCALENDAR
VERSION:2.0
PRODID:-//jEvents 2.0 for Joomla//EN
CALSCALE:GREGORIAN
METHOD:PUBLISH
BEGIN:VTIMEZONE
TZID:America/Lima
BEGIN:STANDARD
DTSTART:20230904T101500
RDATE:20380118T221407
TZOFFSETFROM:-0500
TZOFFSETTO:-0500
TZNAME:America/Lima -05
END:STANDARD
END:VTIMEZONE
BEGIN:VEVENT
UID:e3f316a85998ddd825027a9acb0fcf16
CATEGORIES:Eventos
CREATED:20250829T093427
SUMMARY:Grabación: Primeros puestos del Ciclo Ordinario 2024-I CEPREUNMSM
LOCATION:Centro Preuniversitario San Marcos
DESCRIPTION:<p>Responsables: Fernando, Edgar</p><p><span style="color: #ff0000;">Ver en
 lace:</span><a href="https://www.youtube.com/watch?v=rZ45fwhESpw" target="_
 blank"><span style="color: #0000ff;">https://www.youtube.com/watch?v=rZ45fw
 hESpw</span></a></p>
DTSTAMP:20260422T134445
DTSTART;TZID=America/Lima:20240904T101500
DTEND;TZID=America/Lima:20240904T111500
SEQUENCE:0
TRANSP:OPAQUE
END:VEVENT
END:VCALENDAR