BEGIN:VCALENDAR
VERSION:2.0
PRODID:-//jEvents 2.0 for Joomla//EN
CALSCALE:GREGORIAN
METHOD:PUBLISH
BEGIN:VTIMEZONE
TZID:America/Lima
BEGIN:STANDARD
DTSTART:20230308T080000
RDATE:20380118T221407
TZOFFSETFROM:-0500
TZOFFSETTO:-0500
TZNAME:America/Lima -05
END:STANDARD
END:VTIMEZONE
BEGIN:VEVENT
UID:f167b71b9f329070eff3064e1e172f56
CATEGORIES:Eventos
CREATED:20250829T093428
SUMMARY:Transmisión: Ceremonia de Otorgamiento de la Condecoración ¨Orden del Sol Sanmarquino del Bicentenario", a la Sra. Amanda Portales y Sra. Adriana Dávila Cossio "Bartola"
LOCATION:Centro Cultural de San Marcos
DESCRIPTION:<p><span id="docs-internal-guid-962e2f40-7fff-9ec9-56a4-4d60e5bba417"><span
 >Responsables: Danielle, Ponchi, Fernando, Edgar</span></span></p><p><span>
 <span><span style="color: #ff0000;">Ver enlace:</span><a href="https://www.
 youtube.com/watch?v=QxRQ3S3yfm4" target="_blank"><span style="color: #0000f
 f;">https://www.youtube.com/watch?v=QxRQ3S3yfm4</span></a></span></span></p
 >
DTSTAMP:20260422T022210
DTSTART;TZID=America/Lima:20240308T080000
DTEND;TZID=America/Lima:20240308T090000
SEQUENCE:0
TRANSP:OPAQUE
END:VEVENT
END:VCALENDAR