BEGIN:VCALENDAR
VERSION:2.0
PRODID:-//jEvents 2.0 for Joomla//EN
CALSCALE:GREGORIAN
METHOD:PUBLISH
BEGIN:VTIMEZONE
TZID:America/Lima
BEGIN:STANDARD
DTSTART:20230306T160000
RDATE:20380118T221407
TZOFFSETFROM:-0500
TZOFFSETTO:-0500
TZNAME:America/Lima -05
END:STANDARD
END:VTIMEZONE
BEGIN:VEVENT
UID:fe0e5b213cbac631599c89d6c80ef0ca
CATEGORIES:Eventos
CREATED:20250829T093428
SUMMARY:Grabación: Colocación de primera piedra - Ing. Ambiental
LOCATION:Facultad de Ingenieria Geológica\, Minera\, Metalúrgica y Geográfica
DESCRIPTION:<p>Responsables: Fernando, Danielle</p><p><span style="color: #ff0000;">Ver
  enlace:</span><a href="https://www.youtube.com/watch?v=LMbqRBQoL2A" target
 ="_blank"><span style="color: #0000ff;">https://www.youtube.com/watch?v=LMb
 qRBQoL2A</span></a></p>
DTSTAMP:20260422T022210
DTSTART;TZID=America/Lima:20240306T160000
DTEND;TZID=America/Lima:20240306T170000
SEQUENCE:0
TRANSP:OPAQUE
END:VEVENT
END:VCALENDAR