BEGIN:VCALENDAR
VERSION:2.0
PRODID:-//jEvents 2.0 for Joomla//EN
CALSCALE:GREGORIAN
METHOD:PUBLISH
BEGIN:VTIMEZONE
TZID:America/Lima
BEGIN:STANDARD
DTSTART:20241012T080000
RDATE:20380118T221407
TZOFFSETFROM:-0500
TZOFFSETTO:-0500
TZNAME:America/Lima -05
END:STANDARD
END:VTIMEZONE
BEGIN:VEVENT
UID:b8b184124fa2c2cc77c73f509504c528
CATEGORIES:Eventos
CREATED:20251009T105032
SUMMARY:Transmisión: Consejo Universitario Sesión Ordinaria y Extraordinaria
LOCATION:Sala Sesiones del Rectorado
DESCRIPTION:<p>Responsables: Anthony, Ponce, Manuel</p><p>Ver enlace Sesión Ordinaria:&
 nbsp;<a href="https://www.youtube.com/watch?v=Z8aeSQiYQW8">https://www.yout
 ube.com/watch?v=Z8aeSQiYQW8</a></p><p>Ver enlace Sesión Extraordinaria:&nbs
 p;<a href="https://www.youtube.com/watch?v=9Okh94jFxQs">https://www.youtube
 .com/watch?v=9Okh94jFxQs</a></p>
CONTACT:RTV San Marcos
DTSTAMP:20260422T134138
DTSTART;TZID=America/Lima:20251013T080000
SEQUENCE:0
TRANSP:OPAQUE
END:VEVENT
END:VCALENDAR