BEGIN:VCALENDAR
VERSION:2.0
PRODID:-//jEvents 2.0 for Joomla//EN
CALSCALE:GREGORIAN
METHOD:PUBLISH
BEGIN:VTIMEZONE
TZID:America/Lima
BEGIN:STANDARD
DTSTART:20241221T143000
RDATE:20380118T221407
TZOFFSETFROM:-0500
TZOFFSETTO:-0500
TZNAME:America/Lima -05
END:STANDARD
END:VTIMEZONE
BEGIN:VEVENT
UID:f9f55462ac98aa216b7df8d35e0109c4
CATEGORIES:Eventos
CREATED:20251222T094713
SUMMARY:Transmisión: Consejo Universitario Sesion Extraordinaria
LOCATION:Sala de sesiones del Rectorado
DESCRIPTION:<p>Responsables: Ponce, Anthony, Daniel, Manuel</p><p>Ver enlace:&nbsp;<a h
 ref="https://www.youtube.com/watch?v=hc-M4QZuuoU">https://www.youtube.com/w
 atch?v=hc-M4QZuuoU</a></p>
CONTACT:RTV SAN MARCOS
DTSTAMP:20260422T133353
DTSTART;TZID=America/Lima:20251222T143000
SEQUENCE:0
TRANSP:OPAQUE
END:VEVENT
END:VCALENDAR