BEGIN:VCALENDAR
VERSION:2.0
PRODID:-//jEvents 2.0 for Joomla//EN
CALSCALE:GREGORIAN
METHOD:PUBLISH
BEGIN:VTIMEZONE
TZID:America/Lima
BEGIN:STANDARD
DTSTART:20250419T080000
RDATE:20380118T221407
TZOFFSETFROM:-0500
TZOFFSETTO:-0500
TZNAME:America/Lima -05
END:STANDARD
END:VTIMEZONE
BEGIN:VEVENT
UID:250e511943022e4ce5582f1d7934721d
CATEGORIES:Eventos
CREATED:20260421T091013
SUMMARY:Grabación: Lanzamiento de becas capacita - MPTE
LOCATION:Ministerio de Trabajo y Promoción del Empleo - MTPE
DESCRIPTION:<p>Responsables: Lizet, Manuel</p>
CONTACT:RTV SAN MARCOS
DTSTAMP:20260422T001753
DTSTART;TZID=America/Lima:20260420T080000
SEQUENCE:0
TRANSP:OPAQUE
END:VEVENT
END:VCALENDAR