BEGIN:VCALENDAR
VERSION:2.0
PRODID:-//jEvents 2.0 for Joomla//EN
CALSCALE:GREGORIAN
METHOD:PUBLISH
BEGIN:VTIMEZONE
TZID:America/Lima
BEGIN:STANDARD
DTSTART:20250419T090000
RDATE:20380118T221407
TZOFFSETFROM:-0500
TZOFFSETTO:-0500
TZNAME:America/Lima -05
END:STANDARD
END:VTIMEZONE
BEGIN:VEVENT
UID:6d2212b403927ab39b16d29e2df925b2
CATEGORIES:Eventos
CREATED:20260421T091227
SUMMARY:Grabación: Ceremonia de lanzamiento oficial de cooperativa
LOCATION:Facultad de Ciencias Administrativas
DESCRIPTION:Responsables: Johanna, Anthony\n
X-ALT-DESC;FMTTYPE=text/html:<p>Responsables: Johanna, Anthony</p>
CONTACT:RTV SAN MARCOS
DTSTAMP:20260422T001803
DTSTART;TZID=America/Lima:20260420T090000
SEQUENCE:0
TRANSP:OPAQUE
END:VEVENT
END:VCALENDAR