BEGIN:VCALENDAR
VERSION:2.0
PRODID:-//jEvents 2.0 for Joomla//EN
CALSCALE:GREGORIAN
METHOD:PUBLISH
BEGIN:VTIMEZONE
TZID:America/Lima
BEGIN:STANDARD
DTSTART:20250419T170000
RDATE:20380118T221407
TZOFFSETFROM:-0500
TZOFFSETTO:-0500
TZNAME:America/Lima -05
END:STANDARD
END:VTIMEZONE
BEGIN:VEVENT
UID:e03d1235b6a9cd586969497d6d2c2aa1
CATEGORIES:Eventos
CREATED:20260421T091408
SUMMARY:Grabación: Presentación de pasaporte  Perú - Argentina
LOCATION:Centro Cultural San Marcos - Salón de Grados
DESCRIPTION:Responsables: Fernando, Daniel\n
X-ALT-DESC;FMTTYPE=text/html:<p>Responsables: Fernando, Daniel</p>
CONTACT:RTV SAN MARCOS
DTSTAMP:20260421T183130
DTSTART;TZID=America/Lima:20260420T170000
SEQUENCE:0
TRANSP:OPAQUE
END:VEVENT
END:VCALENDAR