BEGIN:VCALENDAR
VERSION:2.0
PRODID:-//jEvents 2.0 for Joomla//EN
CALSCALE:GREGORIAN
METHOD:PUBLISH
BEGIN:VTIMEZONE
TZID:America/Lima
BEGIN:STANDARD
DTSTART:20250421T150000
RDATE:20380118T221407
TZOFFSETFROM:-0500
TZOFFSETTO:-0500
TZNAME:America/Lima -05
END:STANDARD
END:VTIMEZONE
BEGIN:VEVENT
UID:965fd889edad8a862b5a28733f084373
CATEGORIES:Eventos
CREATED:20260422T105454
SUMMARY:Transmisión: Consejo Universitario Extraordinario
LOCATION:Sala de sesiones del Rectorado
DESCRIPTION:<p>Responsables: Ponce, Daniel, Manuel</p>
CONTACT:RTV SAN MARCOS
DTSTAMP:20260422T191813
DTSTART;TZID=America/Lima:20260422T150000
SEQUENCE:0
TRANSP:OPAQUE
END:VEVENT
END:VCALENDAR