BEGIN:VCALENDAR
VERSION:2.0
PRODID:-//jEvents 2.0 for Joomla//EN
CALSCALE:GREGORIAN
METHOD:PUBLISH
BEGIN:VTIMEZONE
TZID:America/Lima
BEGIN:STANDARD
DTSTART:20250422T110000
RDATE:20380118T221407
TZOFFSETFROM:-0500
TZOFFSETTO:-0500
TZNAME:America/Lima -05
END:STANDARD
END:VTIMEZONE
BEGIN:VEVENT
UID:c417baf75dc5e95d48aa7d18f8700a6d
CATEGORIES:Eventos
CREATED:20260423T083836
SUMMARY:Grabación: Curso de español para estudiantes de intercambio - OGCRI
LOCATION:Idiomas - UNMSM - FLCH
DESCRIPTION:Responsables: Johanna, Manuel\n
X-ALT-DESC;FMTTYPE=text/html:<p>Responsables: Johanna, Manuel</p>
CONTACT:RTV SAN MARCOS
DTSTAMP:20260423T170433
DTSTART;TZID=America/Lima:20260423T110000
SEQUENCE:0
TRANSP:OPAQUE
END:VEVENT
END:VCALENDAR