BEGIN:VCALENDAR
VERSION:2.0
PRODID:-//jEvents 2.0 for Joomla//EN
CALSCALE:GREGORIAN
METHOD:PUBLISH
BEGIN:VTIMEZONE
TZID:America/Lima
BEGIN:STANDARD
DTSTART:20250422T150000
RDATE:20380118T221407
TZOFFSETFROM:-0500
TZOFFSETTO:-0500
TZNAME:America/Lima -05
END:STANDARD
END:VTIMEZONE
BEGIN:VEVENT
UID:95d94632bd122a77b1fb70249b5f16cc
CATEGORIES:Eventos
CREATED:20260423T084102
SUMMARY:Grabación: Clausura de Evaluación Externa con fines de acreditación nacional - OCCAA
LOCATION:Biblioteca Central
DESCRIPTION:Responsables: Johanna, Ponce, Córdova\n
X-ALT-DESC;FMTTYPE=text/html:<p>Responsables: Johanna, Ponce, Córdova</p>
CONTACT:RTV SAN MARCOS
DTSTAMP:20260423T170433
DTSTART;TZID=America/Lima:20260423T150000
SEQUENCE:0
TRANSP:OPAQUE
END:VEVENT
END:VCALENDAR