BEGIN:VCALENDAR
VERSION:2.0
PRODID:-//jEvents 2.0 for Joomla//EN
CALSCALE:GREGORIAN
METHOD:PUBLISH
BEGIN:VTIMEZONE
TZID:America/Lima
BEGIN:STANDARD
DTSTART:20250423T083000
RDATE:20380118T221407
TZOFFSETFROM:-0500
TZOFFSETTO:-0500
TZNAME:America/Lima -05
END:STANDARD
END:VTIMEZONE
BEGIN:VEVENT
UID:bae382c62aca9de19675f4585e8ad1eb
CATEGORIES:Eventos
CREATED:20260424T092911
SUMMARY:Grabación: Plan de Continuidad Operativa - OGRAC
LOCATION:EP de Ingeniería Civil
DESCRIPTION:<p>Responsables: Lizet, Daniel</p>
CONTACT:RTV SAN MARCOS
DTSTAMP:20260424T172827
DTSTART;TZID=America/Lima:20260424T083000
SEQUENCE:0
TRANSP:OPAQUE
END:VEVENT
END:VCALENDAR