BEGIN:VCALENDAR
VERSION:2.0
PRODID:-//jEvents 2.0 for Joomla//EN
CALSCALE:GREGORIAN
METHOD:PUBLISH
BEGIN:VTIMEZONE
TZID:America/Lima
BEGIN:STANDARD
DTSTART:20250423T090000
RDATE:20380118T221407
TZOFFSETFROM:-0500
TZOFFSETTO:-0500
TZNAME:America/Lima -05
END:STANDARD
END:VTIMEZONE
BEGIN:VEVENT
UID:49dac5ed014af4cb7368f1c1db1df91d
CATEGORIES:Eventos
CREATED:20260424T093020
SUMMARY:Grabación: Expoferia San Marcos
LOCATION:Comedor Universitario
DESCRIPTION:<p>Responsables: Fernando, Diego</p>
CONTACT:RTV SAN MARCOS
DTSTAMP:20260424T172822
DTSTART;TZID=America/Lima:20260424T090000
SEQUENCE:0
TRANSP:OPAQUE
END:VEVENT
END:VCALENDAR