BEGIN:VCALENDAR
VERSION:2.0
PRODID:-//jEvents 2.0 for Joomla//EN
CALSCALE:GREGORIAN
METHOD:PUBLISH
BEGIN:VTIMEZONE
TZID:America/Lima
BEGIN:STANDARD
DTSTART:20250422T170000
RDATE:20380118T221407
TZOFFSETFROM:-0500
TZOFFSETTO:-0500
TZNAME:America/Lima -05
END:STANDARD
END:VTIMEZONE
BEGIN:VEVENT
UID:6f2bca1ffcc62a6492c9a7803acabdb4
CATEGORIES:Eventos
CREATED:20260424T110603
SUMMARY:Grabación: Taller LUBAN - FIEE
LOCATION:Facultad de Ingeniería Electrónica y Eléctrica
DESCRIPTION:<p>Responsables: Fernando, Diego</p>
DTSTAMP:20260424T191225
DTSTART;TZID=America/Lima:20260423T170000
SEQUENCE:0
TRANSP:OPAQUE
END:VEVENT
END:VCALENDAR