BEGIN:VCALENDAR
VERSION:2.0
PRODID:-//jEvents 2.0 for Joomla//EN
CALSCALE:GREGORIAN
METHOD:PUBLISH
BEGIN:VTIMEZONE
TZID:America/Lima
BEGIN:STANDARD
DTSTART:20250423T190000
RDATE:20380118T221407
TZOFFSETFROM:-0500
TZOFFSETTO:-0500
TZNAME:America/Lima -05
END:STANDARD
END:VTIMEZONE
BEGIN:VEVENT
UID:6513d61012f45871619ab479f41d84cc
CATEGORIES:Eventos
CREATED:20260424T161736
SUMMARY:Grabación: Ceremonia de reconocimiento a la Escuela Profesional de Ingeniería Geográfica de la UNMSM por haber obtenido la acreditación SINEACE
LOCATION:Calle Barcelona 240 - San Iisidro
DESCRIPTION:<p>Responsable: Corodova</p>
CONTACT:RTV SAN MARCOS
DTSTAMP:20260425T003220
DTSTART;TZID=America/Lima:20260424T190000
SEQUENCE:0
TRANSP:OPAQUE
END:VEVENT
END:VCALENDAR